BEGIN:VCALENDAR
VERSION:2.0
PRODID:-//The English Collective - ECPv6.15.20//NONSGML v1.0//EN
CALSCALE:GREGORIAN
METHOD:PUBLISH
X-ORIGINAL-URL:https://theenglishcollective.com
X-WR-CALDESC:Events for The English Collective
REFRESH-INTERVAL;VALUE=DURATION:PT1H
X-Robots-Tag:noindex
X-PUBLISHED-TTL:PT1H
BEGIN:VTIMEZONE
TZID:Europe/Madrid
BEGIN:DAYLIGHT
TZOFFSETFROM:+0100
TZOFFSETTO:+0200
TZNAME:CEST
DTSTART:20250330T010000
END:DAYLIGHT
BEGIN:STANDARD
TZOFFSETFROM:+0200
TZOFFSETTO:+0100
TZNAME:CET
DTSTART:20251026T010000
END:STANDARD
BEGIN:DAYLIGHT
TZOFFSETFROM:+0100
TZOFFSETTO:+0200
TZNAME:CEST
DTSTART:20260329T010000
END:DAYLIGHT
BEGIN:STANDARD
TZOFFSETFROM:+0200
TZOFFSETTO:+0100
TZNAME:CET
DTSTART:20261025T010000
END:STANDARD
BEGIN:DAYLIGHT
TZOFFSETFROM:+0100
TZOFFSETTO:+0200
TZNAME:CEST
DTSTART:20270328T010000
END:DAYLIGHT
BEGIN:STANDARD
TZOFFSETFROM:+0200
TZOFFSETTO:+0100
TZNAME:CET
DTSTART:20271031T010000
END:STANDARD
END:VTIMEZONE
BEGIN:VEVENT
DTSTART;TZID=Europe/Madrid:20260914T173000
DTEND;TZID=Europe/Madrid:20260914T181500
DTSTAMP:20260425T182844
CREATED:20250714T114218Z
LAST-MODIFIED:20260330T151153Z
UID:10025894-1789407000-1789409700@theenglishcollective.com
SUMMARY:English Time with Juls
DESCRIPTION:Join Juls to help you on your journey to improved English fluency. As a native Spanish speaker\, Juls understands the learning process and challenges faced by learners. This interactive\, fun class is filled with challenges and will motivate you on your personal journey. Are you ready?
URL:https://theenglishcollective.com/event/english-time-with-juls-2-2-2-2-3/2026-09-14/
ATTACH;FMTTYPE=image/png:https://theenglishcollective.com/wp-content/uploads/2023/07/ET-with-Juls.png
END:VEVENT
BEGIN:VEVENT
DTSTART;TZID=Europe/Madrid:20260916T173000
DTEND;TZID=Europe/Madrid:20260916T181500
DTSTAMP:20260425T182844
CREATED:20250716T094016Z
LAST-MODIFIED:20260330T151237Z
UID:10027217-1789579800-1789582500@theenglishcollective.com
SUMMARY:Essential English
DESCRIPTION:Inglés desde Cero! Aquí enfocamos en lo esencial para desarrollar una base con el idioma empezando con lo fundamental! Let’s Go!
URL:https://theenglishcollective.com/event/essential-english-3/2026-09-16/
ATTACH;FMTTYPE=image/png:https://theenglishcollective.com/wp-content/uploads/2024/01/EE-nov.png
END:VEVENT
BEGIN:VEVENT
DTSTART;TZID=Europe/Madrid:20260918T140000
DTEND;TZID=Europe/Madrid:20260918T144500
DTSTAMP:20260425T182844
CREATED:20250902T150503Z
LAST-MODIFIED:20260401T132213Z
UID:10026689-1789740000-1789742700@theenglishcollective.com
SUMMARY:Natural English
DESCRIPTION:Join Juls as she gives her best tips and tricks to sound more natural and native being a non-native English speaker.
URL:https://theenglishcollective.com/event/natural-english/2026-09-18/
ATTACH;FMTTYPE=image/png:https://theenglishcollective.com/wp-content/uploads/2025/09/Natural-main-tile.png
END:VEVENT
BEGIN:VEVENT
DTSTART;TZID=Europe/Madrid:20260921T173000
DTEND;TZID=Europe/Madrid:20260921T181500
DTSTAMP:20260425T182844
CREATED:20250714T114218Z
LAST-MODIFIED:20260330T151153Z
UID:10025895-1790011800-1790014500@theenglishcollective.com
SUMMARY:English Time with Juls
DESCRIPTION:Join Juls to help you on your journey to improved English fluency. As a native Spanish speaker\, Juls understands the learning process and challenges faced by learners. This interactive\, fun class is filled with challenges and will motivate you on your personal journey. Are you ready?
URL:https://theenglishcollective.com/event/english-time-with-juls-2-2-2-2-3/2026-09-21/
ATTACH;FMTTYPE=image/png:https://theenglishcollective.com/wp-content/uploads/2023/07/ET-with-Juls.png
END:VEVENT
BEGIN:VEVENT
DTSTART;TZID=Europe/Madrid:20260923T173000
DTEND;TZID=Europe/Madrid:20260923T181500
DTSTAMP:20260425T182844
CREATED:20250716T094016Z
LAST-MODIFIED:20260330T151237Z
UID:10027218-1790184600-1790187300@theenglishcollective.com
SUMMARY:Essential English
DESCRIPTION:Inglés desde Cero! Aquí enfocamos en lo esencial para desarrollar una base con el idioma empezando con lo fundamental! Let’s Go!
URL:https://theenglishcollective.com/event/essential-english-3/2026-09-23/
ATTACH;FMTTYPE=image/png:https://theenglishcollective.com/wp-content/uploads/2024/01/EE-nov.png
END:VEVENT
BEGIN:VEVENT
DTSTART;TZID=Europe/Madrid:20260925T140000
DTEND;TZID=Europe/Madrid:20260925T144500
DTSTAMP:20260425T182844
CREATED:20250902T150503Z
LAST-MODIFIED:20260401T132213Z
UID:10026690-1790344800-1790347500@theenglishcollective.com
SUMMARY:Natural English
DESCRIPTION:Join Juls as she gives her best tips and tricks to sound more natural and native being a non-native English speaker.
URL:https://theenglishcollective.com/event/natural-english/2026-09-25/
ATTACH;FMTTYPE=image/png:https://theenglishcollective.com/wp-content/uploads/2025/09/Natural-main-tile.png
END:VEVENT
BEGIN:VEVENT
DTSTART;TZID=Europe/Madrid:20260928T173000
DTEND;TZID=Europe/Madrid:20260928T181500
DTSTAMP:20260425T182844
CREATED:20250714T114218Z
LAST-MODIFIED:20260330T151153Z
UID:10025896-1790616600-1790619300@theenglishcollective.com
SUMMARY:English Time with Juls
DESCRIPTION:Join Juls to help you on your journey to improved English fluency. As a native Spanish speaker\, Juls understands the learning process and challenges faced by learners. This interactive\, fun class is filled with challenges and will motivate you on your personal journey. Are you ready?
URL:https://theenglishcollective.com/event/english-time-with-juls-2-2-2-2-3/2026-09-28/
ATTACH;FMTTYPE=image/png:https://theenglishcollective.com/wp-content/uploads/2023/07/ET-with-Juls.png
END:VEVENT
BEGIN:VEVENT
DTSTART;TZID=Europe/Madrid:20260930T173000
DTEND;TZID=Europe/Madrid:20260930T181500
DTSTAMP:20260425T182844
CREATED:20250716T094016Z
LAST-MODIFIED:20260330T151237Z
UID:10027219-1790789400-1790792100@theenglishcollective.com
SUMMARY:Essential English
DESCRIPTION:Inglés desde Cero! Aquí enfocamos en lo esencial para desarrollar una base con el idioma empezando con lo fundamental! Let’s Go!
URL:https://theenglishcollective.com/event/essential-english-3/2026-09-30/
ATTACH;FMTTYPE=image/png:https://theenglishcollective.com/wp-content/uploads/2024/01/EE-nov.png
END:VEVENT
BEGIN:VEVENT
DTSTART;TZID=Europe/Madrid:20261002T140000
DTEND;TZID=Europe/Madrid:20261002T144500
DTSTAMP:20260425T182844
CREATED:20250902T150503Z
LAST-MODIFIED:20260401T132213Z
UID:10026691-1790949600-1790952300@theenglishcollective.com
SUMMARY:Natural English
DESCRIPTION:Join Juls as she gives her best tips and tricks to sound more natural and native being a non-native English speaker.
URL:https://theenglishcollective.com/event/natural-english/2026-10-02/
ATTACH;FMTTYPE=image/png:https://theenglishcollective.com/wp-content/uploads/2025/09/Natural-main-tile.png
END:VEVENT
BEGIN:VEVENT
DTSTART;TZID=Europe/Madrid:20261005T173000
DTEND;TZID=Europe/Madrid:20261005T181500
DTSTAMP:20260425T182844
CREATED:20250714T114218Z
LAST-MODIFIED:20260330T151153Z
UID:10025897-1791221400-1791224100@theenglishcollective.com
SUMMARY:English Time with Juls
DESCRIPTION:Join Juls to help you on your journey to improved English fluency. As a native Spanish speaker\, Juls understands the learning process and challenges faced by learners. This interactive\, fun class is filled with challenges and will motivate you on your personal journey. Are you ready?
URL:https://theenglishcollective.com/event/english-time-with-juls-2-2-2-2-3/2026-10-05/
ATTACH;FMTTYPE=image/png:https://theenglishcollective.com/wp-content/uploads/2023/07/ET-with-Juls.png
END:VEVENT
BEGIN:VEVENT
DTSTART;TZID=Europe/Madrid:20261007T173000
DTEND;TZID=Europe/Madrid:20261007T181500
DTSTAMP:20260425T182844
CREATED:20250716T094016Z
LAST-MODIFIED:20260330T151237Z
UID:10027220-1791394200-1791396900@theenglishcollective.com
SUMMARY:Essential English
DESCRIPTION:Inglés desde Cero! Aquí enfocamos en lo esencial para desarrollar una base con el idioma empezando con lo fundamental! Let’s Go!
URL:https://theenglishcollective.com/event/essential-english-3/2026-10-07/
ATTACH;FMTTYPE=image/png:https://theenglishcollective.com/wp-content/uploads/2024/01/EE-nov.png
END:VEVENT
BEGIN:VEVENT
DTSTART;TZID=Europe/Madrid:20261009T140000
DTEND;TZID=Europe/Madrid:20261009T144500
DTSTAMP:20260425T182844
CREATED:20250902T150503Z
LAST-MODIFIED:20260401T132213Z
UID:10026692-1791554400-1791557100@theenglishcollective.com
SUMMARY:Natural English
DESCRIPTION:Join Juls as she gives her best tips and tricks to sound more natural and native being a non-native English speaker.
URL:https://theenglishcollective.com/event/natural-english/2026-10-09/
ATTACH;FMTTYPE=image/png:https://theenglishcollective.com/wp-content/uploads/2025/09/Natural-main-tile.png
END:VEVENT
BEGIN:VEVENT
DTSTART;TZID=Europe/Madrid:20261012T173000
DTEND;TZID=Europe/Madrid:20261012T181500
DTSTAMP:20260425T182844
CREATED:20250714T114218Z
LAST-MODIFIED:20260330T151153Z
UID:10025898-1791826200-1791828900@theenglishcollective.com
SUMMARY:English Time with Juls
DESCRIPTION:Join Juls to help you on your journey to improved English fluency. As a native Spanish speaker\, Juls understands the learning process and challenges faced by learners. This interactive\, fun class is filled with challenges and will motivate you on your personal journey. Are you ready?
URL:https://theenglishcollective.com/event/english-time-with-juls-2-2-2-2-3/2026-10-12/
ATTACH;FMTTYPE=image/png:https://theenglishcollective.com/wp-content/uploads/2023/07/ET-with-Juls.png
END:VEVENT
BEGIN:VEVENT
DTSTART;TZID=Europe/Madrid:20261014T173000
DTEND;TZID=Europe/Madrid:20261014T181500
DTSTAMP:20260425T182844
CREATED:20250716T094016Z
LAST-MODIFIED:20260330T151237Z
UID:10027221-1791999000-1792001700@theenglishcollective.com
SUMMARY:Essential English
DESCRIPTION:Inglés desde Cero! Aquí enfocamos en lo esencial para desarrollar una base con el idioma empezando con lo fundamental! Let’s Go!
URL:https://theenglishcollective.com/event/essential-english-3/2026-10-14/
ATTACH;FMTTYPE=image/png:https://theenglishcollective.com/wp-content/uploads/2024/01/EE-nov.png
END:VEVENT
BEGIN:VEVENT
DTSTART;TZID=Europe/Madrid:20261016T140000
DTEND;TZID=Europe/Madrid:20261016T144500
DTSTAMP:20260425T182844
CREATED:20250902T150503Z
LAST-MODIFIED:20260401T132213Z
UID:10026693-1792159200-1792161900@theenglishcollective.com
SUMMARY:Natural English
DESCRIPTION:Join Juls as she gives her best tips and tricks to sound more natural and native being a non-native English speaker.
URL:https://theenglishcollective.com/event/natural-english/2026-10-16/
ATTACH;FMTTYPE=image/png:https://theenglishcollective.com/wp-content/uploads/2025/09/Natural-main-tile.png
END:VEVENT
BEGIN:VEVENT
DTSTART;TZID=Europe/Madrid:20261019T173000
DTEND;TZID=Europe/Madrid:20261019T181500
DTSTAMP:20260425T182844
CREATED:20250714T114218Z
LAST-MODIFIED:20260330T151153Z
UID:10025899-1792431000-1792433700@theenglishcollective.com
SUMMARY:English Time with Juls
DESCRIPTION:Join Juls to help you on your journey to improved English fluency. As a native Spanish speaker\, Juls understands the learning process and challenges faced by learners. This interactive\, fun class is filled with challenges and will motivate you on your personal journey. Are you ready?
URL:https://theenglishcollective.com/event/english-time-with-juls-2-2-2-2-3/2026-10-19/
ATTACH;FMTTYPE=image/png:https://theenglishcollective.com/wp-content/uploads/2023/07/ET-with-Juls.png
END:VEVENT
BEGIN:VEVENT
DTSTART;TZID=Europe/Madrid:20261021T173000
DTEND;TZID=Europe/Madrid:20261021T181500
DTSTAMP:20260425T182844
CREATED:20250716T094016Z
LAST-MODIFIED:20260330T151237Z
UID:10027222-1792603800-1792606500@theenglishcollective.com
SUMMARY:Essential English
DESCRIPTION:Inglés desde Cero! Aquí enfocamos en lo esencial para desarrollar una base con el idioma empezando con lo fundamental! Let’s Go!
URL:https://theenglishcollective.com/event/essential-english-3/2026-10-21/
ATTACH;FMTTYPE=image/png:https://theenglishcollective.com/wp-content/uploads/2024/01/EE-nov.png
END:VEVENT
BEGIN:VEVENT
DTSTART;TZID=Europe/Madrid:20261023T140000
DTEND;TZID=Europe/Madrid:20261023T144500
DTSTAMP:20260425T182844
CREATED:20250902T150503Z
LAST-MODIFIED:20260401T132213Z
UID:10026694-1792764000-1792766700@theenglishcollective.com
SUMMARY:Natural English
DESCRIPTION:Join Juls as she gives her best tips and tricks to sound more natural and native being a non-native English speaker.
URL:https://theenglishcollective.com/event/natural-english/2026-10-23/
ATTACH;FMTTYPE=image/png:https://theenglishcollective.com/wp-content/uploads/2025/09/Natural-main-tile.png
END:VEVENT
BEGIN:VEVENT
DTSTART;TZID=Europe/Madrid:20261026T173000
DTEND;TZID=Europe/Madrid:20261026T181500
DTSTAMP:20260425T182844
CREATED:20250714T114218Z
LAST-MODIFIED:20260330T151153Z
UID:10025900-1793035800-1793038500@theenglishcollective.com
SUMMARY:English Time with Juls
DESCRIPTION:Join Juls to help you on your journey to improved English fluency. As a native Spanish speaker\, Juls understands the learning process and challenges faced by learners. This interactive\, fun class is filled with challenges and will motivate you on your personal journey. Are you ready?
URL:https://theenglishcollective.com/event/english-time-with-juls-2-2-2-2-3/2026-10-26/
ATTACH;FMTTYPE=image/png:https://theenglishcollective.com/wp-content/uploads/2023/07/ET-with-Juls.png
END:VEVENT
BEGIN:VEVENT
DTSTART;TZID=Europe/Madrid:20261028T173000
DTEND;TZID=Europe/Madrid:20261028T181500
DTSTAMP:20260425T182844
CREATED:20250716T094016Z
LAST-MODIFIED:20260330T151237Z
UID:10027223-1793208600-1793211300@theenglishcollective.com
SUMMARY:Essential English
DESCRIPTION:Inglés desde Cero! Aquí enfocamos en lo esencial para desarrollar una base con el idioma empezando con lo fundamental! Let’s Go!
URL:https://theenglishcollective.com/event/essential-english-3/2026-10-28/
ATTACH;FMTTYPE=image/png:https://theenglishcollective.com/wp-content/uploads/2024/01/EE-nov.png
END:VEVENT
BEGIN:VEVENT
DTSTART;TZID=Europe/Madrid:20261030T140000
DTEND;TZID=Europe/Madrid:20261030T144500
DTSTAMP:20260425T182844
CREATED:20250902T150503Z
LAST-MODIFIED:20260401T132213Z
UID:10026695-1793368800-1793371500@theenglishcollective.com
SUMMARY:Natural English
DESCRIPTION:Join Juls as she gives her best tips and tricks to sound more natural and native being a non-native English speaker.
URL:https://theenglishcollective.com/event/natural-english/2026-10-30/
ATTACH;FMTTYPE=image/png:https://theenglishcollective.com/wp-content/uploads/2025/09/Natural-main-tile.png
END:VEVENT
BEGIN:VEVENT
DTSTART;TZID=Europe/Madrid:20261102T173000
DTEND;TZID=Europe/Madrid:20261102T181500
DTSTAMP:20260425T182844
CREATED:20250714T114218Z
LAST-MODIFIED:20260330T151153Z
UID:10025901-1793640600-1793643300@theenglishcollective.com
SUMMARY:English Time with Juls
DESCRIPTION:Join Juls to help you on your journey to improved English fluency. As a native Spanish speaker\, Juls understands the learning process and challenges faced by learners. This interactive\, fun class is filled with challenges and will motivate you on your personal journey. Are you ready?
URL:https://theenglishcollective.com/event/english-time-with-juls-2-2-2-2-3/2026-11-02/
ATTACH;FMTTYPE=image/png:https://theenglishcollective.com/wp-content/uploads/2023/07/ET-with-Juls.png
END:VEVENT
BEGIN:VEVENT
DTSTART;TZID=Europe/Madrid:20261104T173000
DTEND;TZID=Europe/Madrid:20261104T181500
DTSTAMP:20260425T182844
CREATED:20250716T094016Z
LAST-MODIFIED:20260330T151237Z
UID:10027224-1793813400-1793816100@theenglishcollective.com
SUMMARY:Essential English
DESCRIPTION:Inglés desde Cero! Aquí enfocamos en lo esencial para desarrollar una base con el idioma empezando con lo fundamental! Let’s Go!
URL:https://theenglishcollective.com/event/essential-english-3/2026-11-04/
ATTACH;FMTTYPE=image/png:https://theenglishcollective.com/wp-content/uploads/2024/01/EE-nov.png
END:VEVENT
BEGIN:VEVENT
DTSTART;TZID=Europe/Madrid:20261106T140000
DTEND;TZID=Europe/Madrid:20261106T144500
DTSTAMP:20260425T182844
CREATED:20250902T150503Z
LAST-MODIFIED:20260401T132213Z
UID:10026696-1793973600-1793976300@theenglishcollective.com
SUMMARY:Natural English
DESCRIPTION:Join Juls as she gives her best tips and tricks to sound more natural and native being a non-native English speaker.
URL:https://theenglishcollective.com/event/natural-english/2026-11-06/
ATTACH;FMTTYPE=image/png:https://theenglishcollective.com/wp-content/uploads/2025/09/Natural-main-tile.png
END:VEVENT
BEGIN:VEVENT
DTSTART;TZID=Europe/Madrid:20261109T173000
DTEND;TZID=Europe/Madrid:20261109T181500
DTSTAMP:20260425T182844
CREATED:20250714T114218Z
LAST-MODIFIED:20260330T151153Z
UID:10025902-1794245400-1794248100@theenglishcollective.com
SUMMARY:English Time with Juls
DESCRIPTION:Join Juls to help you on your journey to improved English fluency. As a native Spanish speaker\, Juls understands the learning process and challenges faced by learners. This interactive\, fun class is filled with challenges and will motivate you on your personal journey. Are you ready?
URL:https://theenglishcollective.com/event/english-time-with-juls-2-2-2-2-3/2026-11-09/
ATTACH;FMTTYPE=image/png:https://theenglishcollective.com/wp-content/uploads/2023/07/ET-with-Juls.png
END:VEVENT
BEGIN:VEVENT
DTSTART;TZID=Europe/Madrid:20261111T173000
DTEND;TZID=Europe/Madrid:20261111T181500
DTSTAMP:20260425T182844
CREATED:20250716T094016Z
LAST-MODIFIED:20260330T151237Z
UID:10027225-1794418200-1794420900@theenglishcollective.com
SUMMARY:Essential English
DESCRIPTION:Inglés desde Cero! Aquí enfocamos en lo esencial para desarrollar una base con el idioma empezando con lo fundamental! Let’s Go!
URL:https://theenglishcollective.com/event/essential-english-3/2026-11-11/
ATTACH;FMTTYPE=image/png:https://theenglishcollective.com/wp-content/uploads/2024/01/EE-nov.png
END:VEVENT
BEGIN:VEVENT
DTSTART;TZID=Europe/Madrid:20261113T140000
DTEND;TZID=Europe/Madrid:20261113T144500
DTSTAMP:20260425T182844
CREATED:20250902T150503Z
LAST-MODIFIED:20260401T132213Z
UID:10026697-1794578400-1794581100@theenglishcollective.com
SUMMARY:Natural English
DESCRIPTION:Join Juls as she gives her best tips and tricks to sound more natural and native being a non-native English speaker.
URL:https://theenglishcollective.com/event/natural-english/2026-11-13/
ATTACH;FMTTYPE=image/png:https://theenglishcollective.com/wp-content/uploads/2025/09/Natural-main-tile.png
END:VEVENT
BEGIN:VEVENT
DTSTART;TZID=Europe/Madrid:20261116T173000
DTEND;TZID=Europe/Madrid:20261116T181500
DTSTAMP:20260425T182844
CREATED:20250714T114218Z
LAST-MODIFIED:20260330T151153Z
UID:10025903-1794850200-1794852900@theenglishcollective.com
SUMMARY:English Time with Juls
DESCRIPTION:Join Juls to help you on your journey to improved English fluency. As a native Spanish speaker\, Juls understands the learning process and challenges faced by learners. This interactive\, fun class is filled with challenges and will motivate you on your personal journey. Are you ready?
URL:https://theenglishcollective.com/event/english-time-with-juls-2-2-2-2-3/2026-11-16/
ATTACH;FMTTYPE=image/png:https://theenglishcollective.com/wp-content/uploads/2023/07/ET-with-Juls.png
END:VEVENT
BEGIN:VEVENT
DTSTART;TZID=Europe/Madrid:20261118T173000
DTEND;TZID=Europe/Madrid:20261118T181500
DTSTAMP:20260425T182844
CREATED:20250716T094016Z
LAST-MODIFIED:20260330T151237Z
UID:10027226-1795023000-1795025700@theenglishcollective.com
SUMMARY:Essential English
DESCRIPTION:Inglés desde Cero! Aquí enfocamos en lo esencial para desarrollar una base con el idioma empezando con lo fundamental! Let’s Go!
URL:https://theenglishcollective.com/event/essential-english-3/2026-11-18/
ATTACH;FMTTYPE=image/png:https://theenglishcollective.com/wp-content/uploads/2024/01/EE-nov.png
END:VEVENT
BEGIN:VEVENT
DTSTART;TZID=Europe/Madrid:20261120T140000
DTEND;TZID=Europe/Madrid:20261120T144500
DTSTAMP:20260425T182844
CREATED:20250902T150503Z
LAST-MODIFIED:20260401T132213Z
UID:10026698-1795183200-1795185900@theenglishcollective.com
SUMMARY:Natural English
DESCRIPTION:Join Juls as she gives her best tips and tricks to sound more natural and native being a non-native English speaker.
URL:https://theenglishcollective.com/event/natural-english/2026-11-20/
ATTACH;FMTTYPE=image/png:https://theenglishcollective.com/wp-content/uploads/2025/09/Natural-main-tile.png
END:VEVENT
END:VCALENDAR