BEGIN:VCALENDAR
VERSION:2.0
PRODID:-//The English Collective - ECPv6.15.20//NONSGML v1.0//EN
CALSCALE:GREGORIAN
METHOD:PUBLISH
X-WR-CALNAME:The English Collective
X-ORIGINAL-URL:https://theenglishcollective.com
X-WR-CALDESC:Events for The English Collective
REFRESH-INTERVAL;VALUE=DURATION:PT1H
X-Robots-Tag:noindex
X-PUBLISHED-TTL:PT1H
BEGIN:VTIMEZONE
TZID:Europe/Madrid
BEGIN:DAYLIGHT
TZOFFSETFROM:+0100
TZOFFSETTO:+0200
TZNAME:CEST
DTSTART:20250330T010000
END:DAYLIGHT
BEGIN:STANDARD
TZOFFSETFROM:+0200
TZOFFSETTO:+0100
TZNAME:CET
DTSTART:20251026T010000
END:STANDARD
BEGIN:DAYLIGHT
TZOFFSETFROM:+0100
TZOFFSETTO:+0200
TZNAME:CEST
DTSTART:20260329T010000
END:DAYLIGHT
BEGIN:STANDARD
TZOFFSETFROM:+0200
TZOFFSETTO:+0100
TZNAME:CET
DTSTART:20261025T010000
END:STANDARD
BEGIN:DAYLIGHT
TZOFFSETFROM:+0100
TZOFFSETTO:+0200
TZNAME:CEST
DTSTART:20270328T010000
END:DAYLIGHT
BEGIN:STANDARD
TZOFFSETFROM:+0200
TZOFFSETTO:+0100
TZNAME:CET
DTSTART:20271031T010000
END:STANDARD
END:VTIMEZONE
BEGIN:VEVENT
DTSTART;TZID=Europe/Madrid:20260427T173000
DTEND;TZID=Europe/Madrid:20260427T181500
DTSTAMP:20260425T020446
CREATED:20250714T114218Z
LAST-MODIFIED:20260330T151153Z
UID:10025874-1777311000-1777313700@theenglishcollective.com
SUMMARY:English Time with Juls
DESCRIPTION:Join Juls to help you on your journey to improved English fluency. As a native Spanish speaker\, Juls understands the learning process and challenges faced by learners. This interactive\, fun class is filled with challenges and will motivate you on your personal journey. Are you ready?
URL:https://theenglishcollective.com/event/english-time-with-juls-2-2-2-2-3/2026-04-27/
ATTACH;FMTTYPE=image/png:https://theenglishcollective.com/wp-content/uploads/2023/07/ET-with-Juls.png
END:VEVENT
BEGIN:VEVENT
DTSTART;TZID=Europe/Madrid:20260504T173000
DTEND;TZID=Europe/Madrid:20260504T181500
DTSTAMP:20260425T020446
CREATED:20250714T114218Z
LAST-MODIFIED:20260330T151153Z
UID:10025875-1777915800-1777918500@theenglishcollective.com
SUMMARY:English Time with Juls
DESCRIPTION:Join Juls to help you on your journey to improved English fluency. As a native Spanish speaker\, Juls understands the learning process and challenges faced by learners. This interactive\, fun class is filled with challenges and will motivate you on your personal journey. Are you ready?
URL:https://theenglishcollective.com/event/english-time-with-juls-2-2-2-2-3/2026-05-04/
ATTACH;FMTTYPE=image/png:https://theenglishcollective.com/wp-content/uploads/2023/07/ET-with-Juls.png
END:VEVENT
BEGIN:VEVENT
DTSTART;TZID=Europe/Madrid:20260511T173000
DTEND;TZID=Europe/Madrid:20260511T181500
DTSTAMP:20260425T020446
CREATED:20250714T114218Z
LAST-MODIFIED:20260330T151153Z
UID:10025876-1778520600-1778523300@theenglishcollective.com
SUMMARY:English Time with Juls
DESCRIPTION:Join Juls to help you on your journey to improved English fluency. As a native Spanish speaker\, Juls understands the learning process and challenges faced by learners. This interactive\, fun class is filled with challenges and will motivate you on your personal journey. Are you ready?
URL:https://theenglishcollective.com/event/english-time-with-juls-2-2-2-2-3/2026-05-11/
ATTACH;FMTTYPE=image/png:https://theenglishcollective.com/wp-content/uploads/2023/07/ET-with-Juls.png
END:VEVENT
BEGIN:VEVENT
DTSTART;TZID=Europe/Madrid:20260518T173000
DTEND;TZID=Europe/Madrid:20260518T181500
DTSTAMP:20260425T020446
CREATED:20250714T114218Z
LAST-MODIFIED:20260330T151153Z
UID:10025877-1779125400-1779128100@theenglishcollective.com
SUMMARY:English Time with Juls
DESCRIPTION:Join Juls to help you on your journey to improved English fluency. As a native Spanish speaker\, Juls understands the learning process and challenges faced by learners. This interactive\, fun class is filled with challenges and will motivate you on your personal journey. Are you ready?
URL:https://theenglishcollective.com/event/english-time-with-juls-2-2-2-2-3/2026-05-18/
ATTACH;FMTTYPE=image/png:https://theenglishcollective.com/wp-content/uploads/2023/07/ET-with-Juls.png
END:VEVENT
BEGIN:VEVENT
DTSTART;TZID=Europe/Madrid:20260525T173000
DTEND;TZID=Europe/Madrid:20260525T181500
DTSTAMP:20260425T020446
CREATED:20250714T114218Z
LAST-MODIFIED:20260330T151153Z
UID:10025878-1779730200-1779732900@theenglishcollective.com
SUMMARY:English Time with Juls
DESCRIPTION:Join Juls to help you on your journey to improved English fluency. As a native Spanish speaker\, Juls understands the learning process and challenges faced by learners. This interactive\, fun class is filled with challenges and will motivate you on your personal journey. Are you ready?
URL:https://theenglishcollective.com/event/english-time-with-juls-2-2-2-2-3/2026-05-25/
ATTACH;FMTTYPE=image/png:https://theenglishcollective.com/wp-content/uploads/2023/07/ET-with-Juls.png
END:VEVENT
BEGIN:VEVENT
DTSTART;TZID=Europe/Madrid:20260601T173000
DTEND;TZID=Europe/Madrid:20260601T181500
DTSTAMP:20260425T020446
CREATED:20250714T114218Z
LAST-MODIFIED:20260330T151153Z
UID:10025879-1780335000-1780337700@theenglishcollective.com
SUMMARY:English Time with Juls
DESCRIPTION:Join Juls to help you on your journey to improved English fluency. As a native Spanish speaker\, Juls understands the learning process and challenges faced by learners. This interactive\, fun class is filled with challenges and will motivate you on your personal journey. Are you ready?
URL:https://theenglishcollective.com/event/english-time-with-juls-2-2-2-2-3/2026-06-01/
ATTACH;FMTTYPE=image/png:https://theenglishcollective.com/wp-content/uploads/2023/07/ET-with-Juls.png
END:VEVENT
BEGIN:VEVENT
DTSTART;TZID=Europe/Madrid:20260608T173000
DTEND;TZID=Europe/Madrid:20260608T181500
DTSTAMP:20260425T020446
CREATED:20250714T114218Z
LAST-MODIFIED:20260330T151153Z
UID:10025880-1780939800-1780942500@theenglishcollective.com
SUMMARY:English Time with Juls
DESCRIPTION:Join Juls to help you on your journey to improved English fluency. As a native Spanish speaker\, Juls understands the learning process and challenges faced by learners. This interactive\, fun class is filled with challenges and will motivate you on your personal journey. Are you ready?
URL:https://theenglishcollective.com/event/english-time-with-juls-2-2-2-2-3/2026-06-08/
ATTACH;FMTTYPE=image/png:https://theenglishcollective.com/wp-content/uploads/2023/07/ET-with-Juls.png
END:VEVENT
BEGIN:VEVENT
DTSTART;TZID=Europe/Madrid:20260615T173000
DTEND;TZID=Europe/Madrid:20260615T181500
DTSTAMP:20260425T020446
CREATED:20250714T114218Z
LAST-MODIFIED:20260330T151153Z
UID:10025881-1781544600-1781547300@theenglishcollective.com
SUMMARY:English Time with Juls
DESCRIPTION:Join Juls to help you on your journey to improved English fluency. As a native Spanish speaker\, Juls understands the learning process and challenges faced by learners. This interactive\, fun class is filled with challenges and will motivate you on your personal journey. Are you ready?
URL:https://theenglishcollective.com/event/english-time-with-juls-2-2-2-2-3/2026-06-15/
ATTACH;FMTTYPE=image/png:https://theenglishcollective.com/wp-content/uploads/2023/07/ET-with-Juls.png
END:VEVENT
BEGIN:VEVENT
DTSTART;TZID=Europe/Madrid:20260622T173000
DTEND;TZID=Europe/Madrid:20260622T181500
DTSTAMP:20260425T020446
CREATED:20250714T114218Z
LAST-MODIFIED:20260330T151153Z
UID:10025882-1782149400-1782152100@theenglishcollective.com
SUMMARY:English Time with Juls
DESCRIPTION:Join Juls to help you on your journey to improved English fluency. As a native Spanish speaker\, Juls understands the learning process and challenges faced by learners. This interactive\, fun class is filled with challenges and will motivate you on your personal journey. Are you ready?
URL:https://theenglishcollective.com/event/english-time-with-juls-2-2-2-2-3/2026-06-22/
ATTACH;FMTTYPE=image/png:https://theenglishcollective.com/wp-content/uploads/2023/07/ET-with-Juls.png
END:VEVENT
BEGIN:VEVENT
DTSTART;TZID=Europe/Madrid:20260629T173000
DTEND;TZID=Europe/Madrid:20260629T181500
DTSTAMP:20260425T020446
CREATED:20250714T114218Z
LAST-MODIFIED:20260330T151153Z
UID:10025883-1782754200-1782756900@theenglishcollective.com
SUMMARY:English Time with Juls
DESCRIPTION:Join Juls to help you on your journey to improved English fluency. As a native Spanish speaker\, Juls understands the learning process and challenges faced by learners. This interactive\, fun class is filled with challenges and will motivate you on your personal journey. Are you ready?
URL:https://theenglishcollective.com/event/english-time-with-juls-2-2-2-2-3/2026-06-29/
ATTACH;FMTTYPE=image/png:https://theenglishcollective.com/wp-content/uploads/2023/07/ET-with-Juls.png
END:VEVENT
BEGIN:VEVENT
DTSTART;TZID=Europe/Madrid:20260706T173000
DTEND;TZID=Europe/Madrid:20260706T181500
DTSTAMP:20260425T020446
CREATED:20250714T114218Z
LAST-MODIFIED:20260330T151153Z
UID:10025884-1783359000-1783361700@theenglishcollective.com
SUMMARY:English Time with Juls
DESCRIPTION:Join Juls to help you on your journey to improved English fluency. As a native Spanish speaker\, Juls understands the learning process and challenges faced by learners. This interactive\, fun class is filled with challenges and will motivate you on your personal journey. Are you ready?
URL:https://theenglishcollective.com/event/english-time-with-juls-2-2-2-2-3/2026-07-06/
ATTACH;FMTTYPE=image/png:https://theenglishcollective.com/wp-content/uploads/2023/07/ET-with-Juls.png
END:VEVENT
BEGIN:VEVENT
DTSTART;TZID=Europe/Madrid:20260713T173000
DTEND;TZID=Europe/Madrid:20260713T181500
DTSTAMP:20260425T020446
CREATED:20250714T114218Z
LAST-MODIFIED:20260330T151153Z
UID:10025885-1783963800-1783966500@theenglishcollective.com
SUMMARY:English Time with Juls
DESCRIPTION:Join Juls to help you on your journey to improved English fluency. As a native Spanish speaker\, Juls understands the learning process and challenges faced by learners. This interactive\, fun class is filled with challenges and will motivate you on your personal journey. Are you ready?
URL:https://theenglishcollective.com/event/english-time-with-juls-2-2-2-2-3/2026-07-13/
ATTACH;FMTTYPE=image/png:https://theenglishcollective.com/wp-content/uploads/2023/07/ET-with-Juls.png
END:VEVENT
BEGIN:VEVENT
DTSTART;TZID=Europe/Madrid:20260720T173000
DTEND;TZID=Europe/Madrid:20260720T181500
DTSTAMP:20260425T020446
CREATED:20250714T114218Z
LAST-MODIFIED:20260330T151153Z
UID:10025886-1784568600-1784571300@theenglishcollective.com
SUMMARY:English Time with Juls
DESCRIPTION:Join Juls to help you on your journey to improved English fluency. As a native Spanish speaker\, Juls understands the learning process and challenges faced by learners. This interactive\, fun class is filled with challenges and will motivate you on your personal journey. Are you ready?
URL:https://theenglishcollective.com/event/english-time-with-juls-2-2-2-2-3/2026-07-20/
ATTACH;FMTTYPE=image/png:https://theenglishcollective.com/wp-content/uploads/2023/07/ET-with-Juls.png
END:VEVENT
BEGIN:VEVENT
DTSTART;TZID=Europe/Madrid:20260727T173000
DTEND;TZID=Europe/Madrid:20260727T181500
DTSTAMP:20260425T020446
CREATED:20250714T114218Z
LAST-MODIFIED:20260330T151153Z
UID:10025887-1785173400-1785176100@theenglishcollective.com
SUMMARY:English Time with Juls
DESCRIPTION:Join Juls to help you on your journey to improved English fluency. As a native Spanish speaker\, Juls understands the learning process and challenges faced by learners. This interactive\, fun class is filled with challenges and will motivate you on your personal journey. Are you ready?
URL:https://theenglishcollective.com/event/english-time-with-juls-2-2-2-2-3/2026-07-27/
ATTACH;FMTTYPE=image/png:https://theenglishcollective.com/wp-content/uploads/2023/07/ET-with-Juls.png
END:VEVENT
BEGIN:VEVENT
DTSTART;TZID=Europe/Madrid:20260803T173000
DTEND;TZID=Europe/Madrid:20260803T181500
DTSTAMP:20260425T020446
CREATED:20250714T114218Z
LAST-MODIFIED:20260330T151153Z
UID:10025888-1785778200-1785780900@theenglishcollective.com
SUMMARY:English Time with Juls
DESCRIPTION:Join Juls to help you on your journey to improved English fluency. As a native Spanish speaker\, Juls understands the learning process and challenges faced by learners. This interactive\, fun class is filled with challenges and will motivate you on your personal journey. Are you ready?
URL:https://theenglishcollective.com/event/english-time-with-juls-2-2-2-2-3/2026-08-03/
ATTACH;FMTTYPE=image/png:https://theenglishcollective.com/wp-content/uploads/2023/07/ET-with-Juls.png
END:VEVENT
BEGIN:VEVENT
DTSTART;TZID=Europe/Madrid:20260810T173000
DTEND;TZID=Europe/Madrid:20260810T181500
DTSTAMP:20260425T020446
CREATED:20250714T114218Z
LAST-MODIFIED:20260330T151153Z
UID:10025889-1786383000-1786385700@theenglishcollective.com
SUMMARY:English Time with Juls
DESCRIPTION:Join Juls to help you on your journey to improved English fluency. As a native Spanish speaker\, Juls understands the learning process and challenges faced by learners. This interactive\, fun class is filled with challenges and will motivate you on your personal journey. Are you ready?
URL:https://theenglishcollective.com/event/english-time-with-juls-2-2-2-2-3/2026-08-10/
ATTACH;FMTTYPE=image/png:https://theenglishcollective.com/wp-content/uploads/2023/07/ET-with-Juls.png
END:VEVENT
BEGIN:VEVENT
DTSTART;TZID=Europe/Madrid:20260817T173000
DTEND;TZID=Europe/Madrid:20260817T181500
DTSTAMP:20260425T020446
CREATED:20250714T114218Z
LAST-MODIFIED:20260330T151153Z
UID:10025890-1786987800-1786990500@theenglishcollective.com
SUMMARY:English Time with Juls
DESCRIPTION:Join Juls to help you on your journey to improved English fluency. As a native Spanish speaker\, Juls understands the learning process and challenges faced by learners. This interactive\, fun class is filled with challenges and will motivate you on your personal journey. Are you ready?
URL:https://theenglishcollective.com/event/english-time-with-juls-2-2-2-2-3/2026-08-17/
ATTACH;FMTTYPE=image/png:https://theenglishcollective.com/wp-content/uploads/2023/07/ET-with-Juls.png
END:VEVENT
BEGIN:VEVENT
DTSTART;TZID=Europe/Madrid:20260824T173000
DTEND;TZID=Europe/Madrid:20260824T181500
DTSTAMP:20260425T020446
CREATED:20250714T114218Z
LAST-MODIFIED:20260330T151153Z
UID:10025891-1787592600-1787595300@theenglishcollective.com
SUMMARY:English Time with Juls
DESCRIPTION:Join Juls to help you on your journey to improved English fluency. As a native Spanish speaker\, Juls understands the learning process and challenges faced by learners. This interactive\, fun class is filled with challenges and will motivate you on your personal journey. Are you ready?
URL:https://theenglishcollective.com/event/english-time-with-juls-2-2-2-2-3/2026-08-24/
ATTACH;FMTTYPE=image/png:https://theenglishcollective.com/wp-content/uploads/2023/07/ET-with-Juls.png
END:VEVENT
BEGIN:VEVENT
DTSTART;TZID=Europe/Madrid:20260831T173000
DTEND;TZID=Europe/Madrid:20260831T181500
DTSTAMP:20260425T020446
CREATED:20250714T114218Z
LAST-MODIFIED:20260330T151153Z
UID:10025892-1788197400-1788200100@theenglishcollective.com
SUMMARY:English Time with Juls
DESCRIPTION:Join Juls to help you on your journey to improved English fluency. As a native Spanish speaker\, Juls understands the learning process and challenges faced by learners. This interactive\, fun class is filled with challenges and will motivate you on your personal journey. Are you ready?
URL:https://theenglishcollective.com/event/english-time-with-juls-2-2-2-2-3/2026-08-31/
ATTACH;FMTTYPE=image/png:https://theenglishcollective.com/wp-content/uploads/2023/07/ET-with-Juls.png
END:VEVENT
BEGIN:VEVENT
DTSTART;TZID=Europe/Madrid:20260907T173000
DTEND;TZID=Europe/Madrid:20260907T181500
DTSTAMP:20260425T020446
CREATED:20250714T114218Z
LAST-MODIFIED:20260330T151153Z
UID:10025893-1788802200-1788804900@theenglishcollective.com
SUMMARY:English Time with Juls
DESCRIPTION:Join Juls to help you on your journey to improved English fluency. As a native Spanish speaker\, Juls understands the learning process and challenges faced by learners. This interactive\, fun class is filled with challenges and will motivate you on your personal journey. Are you ready?
URL:https://theenglishcollective.com/event/english-time-with-juls-2-2-2-2-3/2026-09-07/
ATTACH;FMTTYPE=image/png:https://theenglishcollective.com/wp-content/uploads/2023/07/ET-with-Juls.png
END:VEVENT
BEGIN:VEVENT
DTSTART;TZID=Europe/Madrid:20260914T173000
DTEND;TZID=Europe/Madrid:20260914T181500
DTSTAMP:20260425T020446
CREATED:20250714T114218Z
LAST-MODIFIED:20260330T151153Z
UID:10025894-1789407000-1789409700@theenglishcollective.com
SUMMARY:English Time with Juls
DESCRIPTION:Join Juls to help you on your journey to improved English fluency. As a native Spanish speaker\, Juls understands the learning process and challenges faced by learners. This interactive\, fun class is filled with challenges and will motivate you on your personal journey. Are you ready?
URL:https://theenglishcollective.com/event/english-time-with-juls-2-2-2-2-3/2026-09-14/
ATTACH;FMTTYPE=image/png:https://theenglishcollective.com/wp-content/uploads/2023/07/ET-with-Juls.png
END:VEVENT
BEGIN:VEVENT
DTSTART;TZID=Europe/Madrid:20260921T173000
DTEND;TZID=Europe/Madrid:20260921T181500
DTSTAMP:20260425T020446
CREATED:20250714T114218Z
LAST-MODIFIED:20260330T151153Z
UID:10025895-1790011800-1790014500@theenglishcollective.com
SUMMARY:English Time with Juls
DESCRIPTION:Join Juls to help you on your journey to improved English fluency. As a native Spanish speaker\, Juls understands the learning process and challenges faced by learners. This interactive\, fun class is filled with challenges and will motivate you on your personal journey. Are you ready?
URL:https://theenglishcollective.com/event/english-time-with-juls-2-2-2-2-3/2026-09-21/
ATTACH;FMTTYPE=image/png:https://theenglishcollective.com/wp-content/uploads/2023/07/ET-with-Juls.png
END:VEVENT
BEGIN:VEVENT
DTSTART;TZID=Europe/Madrid:20260928T173000
DTEND;TZID=Europe/Madrid:20260928T181500
DTSTAMP:20260425T020446
CREATED:20250714T114218Z
LAST-MODIFIED:20260330T151153Z
UID:10025896-1790616600-1790619300@theenglishcollective.com
SUMMARY:English Time with Juls
DESCRIPTION:Join Juls to help you on your journey to improved English fluency. As a native Spanish speaker\, Juls understands the learning process and challenges faced by learners. This interactive\, fun class is filled with challenges and will motivate you on your personal journey. Are you ready?
URL:https://theenglishcollective.com/event/english-time-with-juls-2-2-2-2-3/2026-09-28/
ATTACH;FMTTYPE=image/png:https://theenglishcollective.com/wp-content/uploads/2023/07/ET-with-Juls.png
END:VEVENT
BEGIN:VEVENT
DTSTART;TZID=Europe/Madrid:20261005T173000
DTEND;TZID=Europe/Madrid:20261005T181500
DTSTAMP:20260425T020446
CREATED:20250714T114218Z
LAST-MODIFIED:20260330T151153Z
UID:10025897-1791221400-1791224100@theenglishcollective.com
SUMMARY:English Time with Juls
DESCRIPTION:Join Juls to help you on your journey to improved English fluency. As a native Spanish speaker\, Juls understands the learning process and challenges faced by learners. This interactive\, fun class is filled with challenges and will motivate you on your personal journey. Are you ready?
URL:https://theenglishcollective.com/event/english-time-with-juls-2-2-2-2-3/2026-10-05/
ATTACH;FMTTYPE=image/png:https://theenglishcollective.com/wp-content/uploads/2023/07/ET-with-Juls.png
END:VEVENT
BEGIN:VEVENT
DTSTART;TZID=Europe/Madrid:20261012T173000
DTEND;TZID=Europe/Madrid:20261012T181500
DTSTAMP:20260425T020446
CREATED:20250714T114218Z
LAST-MODIFIED:20260330T151153Z
UID:10025898-1791826200-1791828900@theenglishcollective.com
SUMMARY:English Time with Juls
DESCRIPTION:Join Juls to help you on your journey to improved English fluency. As a native Spanish speaker\, Juls understands the learning process and challenges faced by learners. This interactive\, fun class is filled with challenges and will motivate you on your personal journey. Are you ready?
URL:https://theenglishcollective.com/event/english-time-with-juls-2-2-2-2-3/2026-10-12/
ATTACH;FMTTYPE=image/png:https://theenglishcollective.com/wp-content/uploads/2023/07/ET-with-Juls.png
END:VEVENT
BEGIN:VEVENT
DTSTART;TZID=Europe/Madrid:20261019T173000
DTEND;TZID=Europe/Madrid:20261019T181500
DTSTAMP:20260425T020446
CREATED:20250714T114218Z
LAST-MODIFIED:20260330T151153Z
UID:10025899-1792431000-1792433700@theenglishcollective.com
SUMMARY:English Time with Juls
DESCRIPTION:Join Juls to help you on your journey to improved English fluency. As a native Spanish speaker\, Juls understands the learning process and challenges faced by learners. This interactive\, fun class is filled with challenges and will motivate you on your personal journey. Are you ready?
URL:https://theenglishcollective.com/event/english-time-with-juls-2-2-2-2-3/2026-10-19/
ATTACH;FMTTYPE=image/png:https://theenglishcollective.com/wp-content/uploads/2023/07/ET-with-Juls.png
END:VEVENT
BEGIN:VEVENT
DTSTART;TZID=Europe/Madrid:20261026T173000
DTEND;TZID=Europe/Madrid:20261026T181500
DTSTAMP:20260425T020446
CREATED:20250714T114218Z
LAST-MODIFIED:20260330T151153Z
UID:10025900-1793035800-1793038500@theenglishcollective.com
SUMMARY:English Time with Juls
DESCRIPTION:Join Juls to help you on your journey to improved English fluency. As a native Spanish speaker\, Juls understands the learning process and challenges faced by learners. This interactive\, fun class is filled with challenges and will motivate you on your personal journey. Are you ready?
URL:https://theenglishcollective.com/event/english-time-with-juls-2-2-2-2-3/2026-10-26/
ATTACH;FMTTYPE=image/png:https://theenglishcollective.com/wp-content/uploads/2023/07/ET-with-Juls.png
END:VEVENT
BEGIN:VEVENT
DTSTART;TZID=Europe/Madrid:20261102T173000
DTEND;TZID=Europe/Madrid:20261102T181500
DTSTAMP:20260425T020446
CREATED:20250714T114218Z
LAST-MODIFIED:20260330T151153Z
UID:10025901-1793640600-1793643300@theenglishcollective.com
SUMMARY:English Time with Juls
DESCRIPTION:Join Juls to help you on your journey to improved English fluency. As a native Spanish speaker\, Juls understands the learning process and challenges faced by learners. This interactive\, fun class is filled with challenges and will motivate you on your personal journey. Are you ready?
URL:https://theenglishcollective.com/event/english-time-with-juls-2-2-2-2-3/2026-11-02/
ATTACH;FMTTYPE=image/png:https://theenglishcollective.com/wp-content/uploads/2023/07/ET-with-Juls.png
END:VEVENT
BEGIN:VEVENT
DTSTART;TZID=Europe/Madrid:20261109T173000
DTEND;TZID=Europe/Madrid:20261109T181500
DTSTAMP:20260425T020446
CREATED:20250714T114218Z
LAST-MODIFIED:20260330T151153Z
UID:10025902-1794245400-1794248100@theenglishcollective.com
SUMMARY:English Time with Juls
DESCRIPTION:Join Juls to help you on your journey to improved English fluency. As a native Spanish speaker\, Juls understands the learning process and challenges faced by learners. This interactive\, fun class is filled with challenges and will motivate you on your personal journey. Are you ready?
URL:https://theenglishcollective.com/event/english-time-with-juls-2-2-2-2-3/2026-11-09/
ATTACH;FMTTYPE=image/png:https://theenglishcollective.com/wp-content/uploads/2023/07/ET-with-Juls.png
END:VEVENT
BEGIN:VEVENT
DTSTART;TZID=Europe/Madrid:20261116T173000
DTEND;TZID=Europe/Madrid:20261116T181500
DTSTAMP:20260425T020446
CREATED:20250714T114218Z
LAST-MODIFIED:20260330T151153Z
UID:10025903-1794850200-1794852900@theenglishcollective.com
SUMMARY:English Time with Juls
DESCRIPTION:Join Juls to help you on your journey to improved English fluency. As a native Spanish speaker\, Juls understands the learning process and challenges faced by learners. This interactive\, fun class is filled with challenges and will motivate you on your personal journey. Are you ready?
URL:https://theenglishcollective.com/event/english-time-with-juls-2-2-2-2-3/2026-11-16/
ATTACH;FMTTYPE=image/png:https://theenglishcollective.com/wp-content/uploads/2023/07/ET-with-Juls.png
END:VEVENT
END:VCALENDAR